BEGIN:VCALENDAR
VERSION:2.0
PRODID:-//wp-events-plugin.com//7.2.3.1//EN
BEGIN:VEVENT
UID:1d358500-3e93-4948-9572-d93e198b996b
DTSTART:20260410T080000Z
DTEND:20260509T080000Z
DTSTAMP:20260218T200501Z
SUMMARY:Valdez Annual Student Art Show
DESCRIPTION:Valdez Annual Student Art Show Returns April 10\, 2026 with a 4:30 PM reception at Valdez Museum.
LOCATION:\, \, 
URL:https://www.valdezmuseum.org/events/valdez-annual-student-art-show/
END:VEVENT
BEGIN:VEVENT
UID:b3f7b4df-5404-4588-aeed-2b48c9033f8f
DTSTART:20260429T180000Z
DTEND:20260430T010000Z
DTSTAMP:20260408T155425Z
SUMMARY:Co-Working Wednesdays
DESCRIPTION:Need to change up your work routine? Need wifi away from home?
LOCATION:The Valdez Museum on Egan\, 217 Egan Dr.\, Valdez\, AK\, 99686\, United States
URL:https://www.valdezmuseum.org/events/co-working-wednesdays-14/
END:VEVENT
BEGIN:VEVENT
UID:632c4716-96a6-4db2-a1ad-0d4d5f52dd9d
DTSTART:20260501T170000Z
DTEND:20260501T180000Z
DTSTAMP:20260306T011946Z
SUMMARY:Coffee in Egan Commons
DESCRIPTION:Coffee in the Commons
LOCATION:The Valdez Museum on Egan\, 217 Egan Dr.\, Valdez\, AK\, 99686\, United States
URL:https://www.valdezmuseum.org/events/coffee-in-the-commons-2026-05-01/
END:VEVENT
BEGIN:VEVENT
UID:ebcd1933-ded6-4aca-bdc3-7ad3fb2cc9d6
DTSTART:20260501T230000Z
DTEND:20260502T010000Z
DTSTAMP:20260311T220329Z
SUMMARY:Arts Workshops
DESCRIPTION:Spring Arts Intergenerational Workshops for Ages 8 to 108!
LOCATION:The Valdez Museum on Egan\, 217 Egan Dr.\, Valdez\, AK\, 99686\, United States
URL:https://www.valdezmuseum.org/events/march-may-art-workshops-2026-05-01/
END:VEVENT
BEGIN:VEVENT
UID:6a30aeeb-9c00-49ae-b5b8-90457e615cee
DTSTART:20260510T230000Z
DTEND:20260511T010000Z
DTSTAMP:20260306T012523Z
SUMMARY:Member Sips
DESCRIPTION:Member Sips
LOCATION:The Valdez Museum on Egan\, 217 Egan Dr.\, Valdez\, AK\, 99686\, United States
URL:https://www.valdezmuseum.org/events/member-sips-2026-03-08-2026-04-12-2026-05-10/
END:VEVENT
BEGIN:VEVENT
UID:29e1beac-8fff-4c58-a3d0-10fda110e061
DTSTART:20260515T230000Z
DTEND:20260516T010000Z
DTSTAMP:20260311T220329Z
SUMMARY:Arts Workshops
DESCRIPTION:Spring Arts Intergenerational Workshops for Ages 8 to 108!
LOCATION:The Valdez Museum on Egan\, 217 Egan Dr.\, Valdez\, AK\, 99686\, United States
URL:https://www.valdezmuseum.org/events/march-may-art-workshops-2026-05-15/
END:VEVENT
BEGIN:VEVENT
UID:bdf4dcf8-0edb-4ffe-800d-4a0f7c0e3f3e
DTSTART:20260522T020000Z
DTEND:20260522T040000Z
DTSTAMP:20260211T011814Z
SUMMARY:Board Of Directors Meeting
LOCATION:The Valdez Museum on Egan\, 217 Egan Dr.\, Valdez\, AK\, 99686\, United States
URL:https://www.valdezmuseum.org/events/board-of-directors-meeting-2026-05-21/
END:VEVENT
BEGIN:VEVENT
UID:2c078ad5-b941-4d2d-83d4-a52488e2e89c
DTSTART:20260619T020000Z
DTEND:20260619T040000Z
DTSTAMP:20260211T011814Z
SUMMARY:Board Of Directors Meeting
LOCATION:The Valdez Museum on Egan\, 217 Egan Dr.\, Valdez\, AK\, 99686\, United States
URL:https://www.valdezmuseum.org/events/board-of-directors-meeting-2026-06-18/
END:VEVENT
BEGIN:VEVENT
UID:bcb0deb5-e935-4522-b659-a71ad5197817
DTSTART:20260717T020000Z
DTEND:20260717T040000Z
DTSTAMP:20260211T011814Z
SUMMARY:Board Of Directors Meeting
LOCATION:The Valdez Museum on Egan\, 217 Egan Dr.\, Valdez\, AK\, 99686\, United States
URL:https://www.valdezmuseum.org/events/board-of-directors-meeting-2026-07-16/
END:VEVENT
BEGIN:VEVENT
UID:6615bb63-3455-488c-b1f4-544ec64454a1
DTSTART:20260821T020000Z
DTEND:20260821T040000Z
DTSTAMP:20260211T011814Z
SUMMARY:Board Of Directors Meeting
LOCATION:The Valdez Museum on Egan\, 217 Egan Dr.\, Valdez\, AK\, 99686\, United States
URL:https://www.valdezmuseum.org/events/board-of-directors-meeting-2026-08-20/
END:VEVENT
BEGIN:VEVENT
UID:32dd5a66-b882-4397-bf87-dcd7ffe666a6
DTSTART:20260918T020000Z
DTEND:20260918T040000Z
DTSTAMP:20260211T011814Z
SUMMARY:Board Of Directors Meeting
LOCATION:The Valdez Museum on Egan\, 217 Egan Dr.\, Valdez\, AK\, 99686\, United States
URL:https://www.valdezmuseum.org/events/board-of-directors-meeting-2026-09-17/
END:VEVENT
BEGIN:VEVENT
UID:59555325-4137-4ab8-bfcd-4002a2a2527d
DTSTART:20261016T020000Z
DTEND:20261016T040000Z
DTSTAMP:20260211T011814Z
SUMMARY:Board Of Directors Meeting
LOCATION:The Valdez Museum on Egan\, 217 Egan Dr.\, Valdez\, AK\, 99686\, United States
URL:https://www.valdezmuseum.org/events/board-of-directors-meeting-2026-10-15/
END:VEVENT
BEGIN:VEVENT
UID:8be8d341-d0a9-49e9-928d-ffd5e3af1f4d
DTSTART:20261120T030000Z
DTEND:20261120T050000Z
DTSTAMP:20260211T011814Z
SUMMARY:Board Of Directors Meeting
LOCATION:The Valdez Museum on Egan\, 217 Egan Dr.\, Valdez\, AK\, 99686\, United States
URL:https://www.valdezmuseum.org/events/board-of-directors-meeting-2026-11-19/
END:VEVENT
END:VCALENDAR